BEGIN:VCALENDAR
VERSION:2.0
PRODID:-//Focales
CALSCALE:GREGORIAN
METHOD:PUBLISH
X-WR-CALNAME:Focales
X-ORIGINAL-URL:https://focales.org/formation-preac-creation-de-musique-originale-de-film-et-design-sonore/
X-WR-CALDESC:FORMATION PREAC CREATION DE MUSIQUE ORIGINALE DE FILM ET DESIGN SONORE
BEGIN:VEVENT
DTSTART:20230511T090000
DTEND:20230512T163000
SUMMARY:FORMATION PREAC CREATION DE MUSIQUE ORIGINALE DE FILM ET DESIGN SONORE
DESCRIPTION:
LOCATION:Studio Palace, Moulins
END:VEVENT
END:VCALENDAR
