BEGIN:VCALENDAR
VERSION:2.0
PRODID:-//Focales
CALSCALE:GREGORIAN
METHOD:PUBLISH
X-WR-CALNAME:Focales
X-ORIGINAL-URL:https://focales.org/toi-non-plus-tu-nas-rien-vu-en-presence-de-la-realisatrice/
X-WR-CALDESC:TOI NON PLUS TU N&rsquo;AS RIEN VU EN PRESENCE DE LA REALISATRICE
BEGIN:VEVENT
DTSTART:20230324T203000
DTEND:20230324T224500
SUMMARY:TOI NON PLUS TU N&rsquo;AS RIEN VU EN PRESENCE DE LA REALISATRICE
DESCRIPTION:
LOCATION:30 Bd de Courtais, 03100 Montluçon
END:VEVENT
END:VCALENDAR
