BEGIN:VCALENDAR
VERSION:2.0
PRODID:-//Focales
CALSCALE:GREGORIAN
METHOD:PUBLISH
X-WR-CALNAME:Focales
X-ORIGINAL-URL:https://focales.org/violences-policieres-le-combat-des-familles-en-presence-de-la-realisatrice/
X-WR-CALDESC:VIOLENCES POLICIERES, LE COMBAT DES FAMILLES &#8211;  EN PRESENCE DE LA REALISATRICE
BEGIN:VEVENT
DTSTART:20230422T200000
DTEND:20230422T223000
SUMMARY:VIOLENCES POLICIERES, LE COMBAT DES FAMILLES &#8211;  EN PRESENCE DE LA REALISATRICE
DESCRIPTION:
LOCATION:Cinéma le Rio, Clermont-Ferrand 
END:VEVENT
END:VCALENDAR
