BEGIN:VCALENDAR
VERSION:2.0
PRODID:-//Focales
CALSCALE:GREGORIAN
METHOD:PUBLISH
X-WR-CALNAME:Focales
X-ORIGINAL-URL:https://focales.org/habites-en-presence-de-la-realisatrice/
X-WR-CALDESC:HABITES, EN PRESENCE DE LA REALISATRICE
BEGIN:VEVENT
DTSTART:20230401T200000
DTEND:20230401T220000
SUMMARY:HABITES, EN PRESENCE DE LA REALISATRICE
DESCRIPTION:
LOCATION:Cinéma le Rio, Clermont-Ferrand 
END:VEVENT
END:VCALENDAR
