BEGIN:VCALENDAR
VERSION:2.0
PRODID:-//Focales
CALSCALE:GREGORIAN
METHOD:PUBLISH
X-WR-CALNAME:Focales
X-ORIGINAL-URL:https://focales.org/imaginelareussite/
X-WR-CALDESC:IMAGINE LA RÉUSSITE RESIDENCE D&rsquo;ÉDUCATION ARTISTIQUE
BEGIN:VEVENT
DTSTART:20150715T000000
DTEND:20150731T000000
SUMMARY:IMAGINE LA RÉUSSITE RESIDENCE D&rsquo;ÉDUCATION ARTISTIQUE
DESCRIPTION:
LOCATION:
END:VEVENT
END:VCALENDAR
