BEGIN:VCALENDAR
VERSION:2.0
PRODID:-//Focales
CALSCALE:GREGORIAN
METHOD:PUBLISH
X-WR-CALNAME:Focales
X-ORIGINAL-URL:https://focales.org/formation-mash-up/
X-WR-CALDESC:FORMATION MASH-UP
BEGIN:VEVENT
DTSTART:20230504T093000
DTEND:20230505T173000
SUMMARY:FORMATION MASH-UP
DESCRIPTION:
LOCATION:la TURBINE.COOP, Grenoble
END:VEVENT
END:VCALENDAR
