BEGIN:VCALENDAR
VERSION:2.0
PRODID:-//Focales
CALSCALE:GREGORIAN
METHOD:PUBLISH
X-WR-CALNAME:Focales
X-ORIGINAL-URL:https://focales.org/3e-nuit-de-limage-europeenne/
X-WR-CALDESC:3e NUIT DE L&rsquo;IMAGE EUROPÉENNE
BEGIN:VEVENT
DTSTART:20230506T150000
DTEND:20230506T234500
SUMMARY:3e NUIT DE L&rsquo;IMAGE EUROPÉENNE
DESCRIPTION:
LOCATION:Boulevard François Mitterrand, Av. Vercingétorix, 63000 Clermont-Ferrand
END:VEVENT
END:VCALENDAR
