BEGIN:VCALENDAR
VERSION:2.0
PRODID:-//Focales
CALSCALE:GREGORIAN
METHOD:PUBLISH
X-WR-CALNAME:Focales
X-ORIGINAL-URL:https://focales.org/its-a-long-way-to-the-pas-top-en-presence-des-realisateurs-et-membres-du-groupe/
X-WR-CALDESC:IT&rsquo;S A LONG WAY TO THE PAS TOP EN PRESENCE DES REALISATEURS ET MEMBRES DU GROUPE
BEGIN:VEVENT
DTSTART:20230504T200000
DTEND:20230504T220000
SUMMARY:IT&rsquo;S A LONG WAY TO THE PAS TOP EN PRESENCE DES REALISATEURS ET MEMBRES DU GROUPE
DESCRIPTION:
LOCATION:Cinéma le Rio, Clermont-Ferrand 
END:VEVENT
END:VCALENDAR
