BEGIN:VCALENDAR
VERSION:2.0
PRODID:-//Focales
CALSCALE:GREGORIAN
METHOD:PUBLISH
X-WR-CALNAME:Focales
X-ORIGINAL-URL:https://focales.org/fernand-pouillon-du-point-du-jour-a-leclipse-en-presence-de-la-realisatrice/
X-WR-CALDESC:FERNAND POUILLON, DU POINT DU JOUR À L&rsquo;ÉCLIPSE EN PRESENCE DE LA REALISATRICE
BEGIN:VEVENT
DTSTART:20230525T200000
DTEND:20230525T220000
SUMMARY:FERNAND POUILLON, DU POINT DU JOUR À L&rsquo;ÉCLIPSE EN PRESENCE DE LA REALISATRICE
DESCRIPTION:
LOCATION:Cinéma le Rio, Clermont-Ferrand 
END:VEVENT
END:VCALENDAR
