BEGIN:VCALENDAR
VERSION:2.0
PRODID:-//Focales
CALSCALE:GREGORIAN
METHOD:PUBLISH
X-WR-CALNAME:Focales
X-ORIGINAL-URL:https://focales.org/72-1-en-presence-du-realisateur/
X-WR-CALDESC:72 + 1 EN PRESENCE DU REALISATEUR
BEGIN:VEVENT
DTSTART:20230506T170000
DTEND:20230506T180000
SUMMARY:72 + 1 EN PRESENCE DU REALISATEUR
DESCRIPTION:
LOCATION:Cinéma le Rio, Clermont-Ferrand
END:VEVENT
END:VCALENDAR
