BEGIN:VCALENDAR
VERSION:2.0
PRODID:-//Focales
CALSCALE:GREGORIAN
METHOD:PUBLISH
X-WR-CALNAME:Focales
X-ORIGINAL-URL:https://focales.org/la-mine-du-diable-en-presence-du-realisateur/
X-WR-CALDESC:LA MINE DU DIABLE EN PRESENCE DU REALISATEUR
BEGIN:VEVENT
DTSTART:20230523T200000
DTEND:20230523T223000
SUMMARY:LA MINE DU DIABLE EN PRESENCE DU REALISATEUR
DESCRIPTION:
LOCATION:Cinéma le Rio, Clermont-Ferrand 
END:VEVENT
END:VCALENDAR
