BEGIN:VCALENDAR
VERSION:2.0
PRODID:-//Focales
CALSCALE:GREGORIAN
METHOD:PUBLISH
X-WR-CALNAME:Focales
X-ORIGINAL-URL:https://focales.org/concours-filme-nous-la-comte/
X-WR-CALDESC:CONCOURS FILME NOUS LA COMTÉ
BEGIN:VEVENT
DTSTART:20150807T000000
DTEND:20150907T000000
SUMMARY:CONCOURS FILME NOUS LA COMTÉ
DESCRIPTION:
LOCATION:7 rue du Haut pavé 63270 YRONDE et BURON
END:VEVENT
END:VCALENDAR
