BEGIN:VCALENDAR
VERSION:2.0
PRODID:-//Focales
CALSCALE:GREGORIAN
METHOD:PUBLISH
X-WR-CALNAME:Focales
X-ORIGINAL-URL:https://focales.org/commune-commune-en-presence-de-la-realisatrice/
X-WR-CALDESC:COMMUNE COMMUNE EN PRESENCE DE LA REALISATRICE
BEGIN:VEVENT
DTSTART:20230607T180000
DTEND:20230607T203000
SUMMARY:COMMUNE COMMUNE EN PRESENCE DE LA REALISATRICE
DESCRIPTION:
LOCATION:Cinéma le Rio, Clermont-Ferrand 
END:VEVENT
END:VCALENDAR
