BEGIN:VCALENDAR
VERSION:2.0
PRODID:-//Focales
CALSCALE:GREGORIAN
METHOD:PUBLISH
X-WR-CALNAME:Focales
X-ORIGINAL-URL:https://focales.org/aux-feux-de-la-rampe-en-presence-du-realisateur/
X-WR-CALDESC:AUX FEUX DE LA RAMPE &#8211;  EN PRESENCE DU REALISATEUR
BEGIN:VEVENT
DTSTART:20230524T140000
DTEND:20230524T160000
SUMMARY:AUX FEUX DE LA RAMPE &#8211;  EN PRESENCE DU REALISATEUR
DESCRIPTION:
LOCATION:Rue Léo Lagrange, 63000 Clermont-Ferrand
END:VEVENT
END:VCALENDAR
