BEGIN:VCALENDAR
VERSION:2.0
PRODID:-//Focales
CALSCALE:GREGORIAN
METHOD:PUBLISH
X-WR-CALNAME:Focales
X-ORIGINAL-URL:https://focales.org/le-rendez-vous-du-fil-4/
X-WR-CALDESC:Le rendez-vous du Fil #4
BEGIN:VEVENT
DTSTART:20230605T160000
DTEND:20230605T180000
SUMMARY:Le rendez-vous du Fil #4
DESCRIPTION:
LOCATION:
END:VEVENT
END:VCALENDAR
