BEGIN:VCALENDAR
VERSION:2.0
PRODID:-//Focales
CALSCALE:GREGORIAN
METHOD:PUBLISH
X-WR-CALNAME:Focales
X-ORIGINAL-URL:https://focales.org/defis-national-ecris-ta-serie-3/
X-WR-CALDESC:DÉFIS NATIONAL « ÉCRIS TA SÉRIE ! » 3 ÈME ÉDITION
BEGIN:VEVENT
DTSTART:20230524T000000
DTEND:20231021T000000
SUMMARY:DÉFIS NATIONAL « ÉCRIS TA SÉRIE ! » 3 ÈME ÉDITION
DESCRIPTION:
LOCATION:
END:VEVENT
END:VCALENDAR
