BEGIN:VCALENDAR
VERSION:2.0
PRODID:-//Focales
CALSCALE:GREGORIAN
METHOD:PUBLISH
X-WR-CALNAME:Focales
X-ORIGINAL-URL:https://focales.org/residence-plein-la-bobine-2023/
X-WR-CALDESC:RÉSIDENCE PLEIN LA BOBINE 2023
BEGIN:VEVENT
DTSTART:20220530T000000
DTEND:20230701T000000
SUMMARY:RÉSIDENCE PLEIN LA BOBINE 2023
DESCRIPTION:
LOCATION:Clermont Ferrand
END:VEVENT
END:VCALENDAR
