BEGIN:VCALENDAR
VERSION:2.0
PRODID:-//Focales
CALSCALE:GREGORIAN
METHOD:PUBLISH
X-WR-CALNAME:Focales
X-ORIGINAL-URL:https://focales.org/realite-virtuelle-4/
X-WR-CALDESC:RÉALITÉ VIRTUELLE
BEGIN:VEVENT
DTSTART:20230711T130000
DTEND:20230713T190000
SUMMARY:RÉALITÉ VIRTUELLE
DESCRIPTION:
LOCATION:Centre de documentation de la Jetée
END:VEVENT
END:VCALENDAR
