BEGIN:VCALENDAR
VERSION:2.0
PRODID:-//Focales
CALSCALE:GREGORIAN
METHOD:PUBLISH
X-WR-CALNAME:Focales
X-ORIGINAL-URL:https://focales.org/plein-air-famille-adams-2/
X-WR-CALDESC:PLEIN AIR LA FAMILLE ADDAMS 2
BEGIN:VEVENT
DTSTART:20230706T223000
DTEND:20230706T000000
SUMMARY:PLEIN AIR LA FAMILLE ADDAMS 2
DESCRIPTION:
LOCATION:All. de la Foire au Pré 63300 Thiers
END:VEVENT
END:VCALENDAR
