BEGIN:VCALENDAR
VERSION:2.0
PRODID:-//Focales
CALSCALE:GREGORIAN
METHOD:PUBLISH
X-WR-CALNAME:Focales
X-ORIGINAL-URL:https://focales.org/plein-air-jurassic-park/
X-WR-CALDESC:PLEIN AIR JURASSIC PARK
BEGIN:VEVENT
DTSTART:20230707T223000
DTEND:20230707T234500
SUMMARY:PLEIN AIR JURASSIC PARK
DESCRIPTION:
LOCATION:Maison de quartier de La Fontaine-du-Bac, 63000 Clermont-Ferrand
END:VEVENT
END:VCALENDAR
