BEGIN:VCALENDAR
VERSION:2.0
PRODID:-//Focales
CALSCALE:GREGORIAN
METHOD:PUBLISH
X-WR-CALNAME:Focales
X-ORIGINAL-URL:https://focales.org/plein-air-chicken-run/
X-WR-CALDESC:PLEIN AIR CHICKEN RUN
BEGIN:VEVENT
DTSTART:20230723T220000
DTEND:20230723T234500
SUMMARY:PLEIN AIR CHICKEN RUN
DESCRIPTION:
LOCATION:3 Rue d'Olonne sur Mer, 15300 Murat
END:VEVENT
END:VCALENDAR
