BEGIN:VCALENDAR
VERSION:2.0
PRODID:-//Focales
CALSCALE:GREGORIAN
METHOD:PUBLISH
X-WR-CALNAME:Focales
X-ORIGINAL-URL:https://focales.org/plein-air-famille-adams-2-2/
X-WR-CALDESC:PLEIN AIR LA FAMILLE ADDAMS 2
BEGIN:VEVENT
DTSTART:20230802T220000
DTEND:20230802T233000
SUMMARY:PLEIN AIR LA FAMILLE ADDAMS 2
DESCRIPTION:
LOCATION:Centre social de Croix de Neyrat, Rue des Hauts de Chanturgue, Clermont-Ferrand
END:VEVENT
END:VCALENDAR
