BEGIN:VCALENDAR
VERSION:2.0
PRODID:-//Focales
CALSCALE:GREGORIAN
METHOD:PUBLISH
X-WR-CALNAME:Focales
X-ORIGINAL-URL:https://focales.org/plein-air-raoul-taburin/
X-WR-CALDESC:PLEIN AIR RAOUL TABURIN
BEGIN:VEVENT
DTSTART:20230724T220000
DTEND:20230724T233000
SUMMARY:PLEIN AIR RAOUL TABURIN
DESCRIPTION:
LOCATION:Piscine Coubertin, Clermont-Ferrand
END:VEVENT
END:VCALENDAR
