BEGIN:VCALENDAR
VERSION:2.0
PRODID:-//Focales
CALSCALE:GREGORIAN
METHOD:PUBLISH
X-WR-CALNAME:Focales
X-ORIGINAL-URL:https://focales.org/plein-air-croc-blanc/
X-WR-CALDESC:PLEIN AIR CROC BLANC
BEGIN:VEVENT
DTSTART:20230725T220000
DTEND:20230725T233000
SUMMARY:PLEIN AIR CROC BLANC
DESCRIPTION:
LOCATION:6 Rue du Ruisseau, 63300 Thiers
END:VEVENT
END:VCALENDAR
