BEGIN:VCALENDAR
VERSION:2.0
PRODID:-//Focales
CALSCALE:GREGORIAN
METHOD:PUBLISH
X-WR-CALNAME:Focales
X-ORIGINAL-URL:https://focales.org/plein-air-croc-blanc-2/
X-WR-CALDESC:PLEIN AIR CROC BLANC
BEGIN:VEVENT
DTSTART:20230727T220000
DTEND:20230727T233000
SUMMARY:PLEIN AIR CROC BLANC
DESCRIPTION:
LOCATION:Parc des Vergnes, Clermont-Ferrand
END:VEVENT
END:VCALENDAR
