BEGIN:VCALENDAR
VERSION:2.0
PRODID:-//Focales
CALSCALE:GREGORIAN
METHOD:PUBLISH
X-WR-CALNAME:Focales
X-ORIGINAL-URL:https://focales.org/plein-air-zai-zai-zai/
X-WR-CALDESC:PLEIN AIR ZAÏ ZAÏ ZAÏ
BEGIN:VEVENT
DTSTART:20230808T220000
DTEND:20230808T233000
SUMMARY:PLEIN AIR ZAÏ ZAÏ ZAÏ
DESCRIPTION:
LOCATION:Square Lapadu-Hargues, Clermont-Ferrand
END:VEVENT
END:VCALENDAR
