BEGIN:VCALENDAR
VERSION:2.0
PRODID:-//Focales
CALSCALE:GREGORIAN
METHOD:PUBLISH
X-WR-CALNAME:Focales
X-ORIGINAL-URL:https://focales.org/plein-air-maison-de-retraite-2/
X-WR-CALDESC:PLEIN AIR MAISON DE RETRAITE
BEGIN:VEVENT
DTSTART:20230819T213000
DTEND:20230819T230000
SUMMARY:PLEIN AIR MAISON DE RETRAITE
DESCRIPTION:
LOCATION:
END:VEVENT
END:VCALENDAR
