BEGIN:VCALENDAR
VERSION:2.0
PRODID:-//Focales
CALSCALE:GREGORIAN
METHOD:PUBLISH
X-WR-CALNAME:Focales
X-ORIGINAL-URL:https://focales.org/festival-documentaire-images-et-palabres/
X-WR-CALDESC:14e FESTIVAL DU DOCUMENTAIRE &#8211; IMAGES ET PALABRES
BEGIN:VEVENT
DTSTART:20220707T210000
DTEND:20230709T233000
SUMMARY:14e FESTIVAL DU DOCUMENTAIRE &#8211; IMAGES ET PALABRES
DESCRIPTION:
LOCATION:le bourg, 43300 tailhac
END:VEVENT
END:VCALENDAR
