BEGIN:VCALENDAR
VERSION:2.0
PRODID:-//Focales
CALSCALE:GREGORIAN
METHOD:PUBLISH
X-WR-CALNAME:Focales
X-ORIGINAL-URL:https://focales.org/plein-air-les-minions-2-2/
X-WR-CALDESC:PLEIN AIR &#8211; LES MINIONS 2
BEGIN:VEVENT
DTSTART:20230826T213000
DTEND:20230826T230000
SUMMARY:PLEIN AIR &#8211; LES MINIONS 2
DESCRIPTION:
LOCATION:Parc Pierre-Montgroux, Cébazat
END:VEVENT
END:VCALENDAR
