BEGIN:VCALENDAR
VERSION:2.0
PRODID:-//Focales
CALSCALE:GREGORIAN
METHOD:PUBLISH
X-WR-CALNAME:Focales
X-ORIGINAL-URL:https://focales.org/plein-air-gagarine/
X-WR-CALDESC:PLEIN AIR GAGARINE
BEGIN:VEVENT
DTSTART:20230901T213000
DTEND:20230901T233000
SUMMARY:PLEIN AIR GAGARINE
DESCRIPTION:
LOCATION:134 Rue de Nohanent, 63100 Clermont-Ferrand
END:VEVENT
END:VCALENDAR
