BEGIN:VCALENDAR
VERSION:2.0
PRODID:-//Focales
CALSCALE:GREGORIAN
METHOD:PUBLISH
X-WR-CALNAME:Focales
X-ORIGINAL-URL:https://focales.org/lyceens-apprentis-au-cinema-cleo-de-5-a-7/
X-WR-CALDESC:CLÉO DE 5 À 7 D&rsquo;AGNÉS VARDA
BEGIN:VEVENT
DTSTART:20240116T090000
DTEND:20240117T170000
SUMMARY:CLÉO DE 5 À 7 D&rsquo;AGNÉS VARDA
DESCRIPTION:
LOCATION:La Jetée, Clermont-Ferrand
END:VEVENT
END:VCALENDAR
