BEGIN:VCALENDAR
VERSION:2.0
PRODID:-//Focales
CALSCALE:GREGORIAN
METHOD:PUBLISH
X-WR-CALNAME:Focales
X-ORIGINAL-URL:https://focales.org/plein-air-billy-elliot/
X-WR-CALDESC:PLEIN AIR BILLY ELLIOT
BEGIN:VEVENT
DTSTART:20230713T221500
DTEND:20230713T234500
SUMMARY:PLEIN AIR BILLY ELLIOT
DESCRIPTION:
LOCATION: Isléa, 03000 Avermes
END:VEVENT
END:VCALENDAR
