BEGIN:VCALENDAR
VERSION:2.0
PRODID:-//Focales
CALSCALE:GREGORIAN
METHOD:PUBLISH
X-WR-CALNAME:Focales
X-ORIGINAL-URL:https://focales.org/formation-college-au-cinema-2023/
X-WR-CALDESC:Formation &#8211; Collège Au Cinéma
BEGIN:VEVENT
DTSTART:20231016T093000
DTEND:20231016T163000
SUMMARY:Formation &#8211; Collège Au Cinéma
DESCRIPTION:
LOCATION:6 place Michel de l'Hospital, 63000 Clermont-Ferrand
END:VEVENT
END:VCALENDAR
