BEGIN:VCALENDAR
VERSION:2.0
PRODID:-//Focales
CALSCALE:GREGORIAN
METHOD:PUBLISH
X-WR-CALNAME:Focales
X-ORIGINAL-URL:https://focales.org/16e-rendez-vous-du-carnet-de-voyage/
X-WR-CALDESC:16E RENDEZ-VOUS DU CARNET DE VOYAGE
BEGIN:VEVENT
DTSTART:20151113T090000
DTEND:20151115T180000
SUMMARY:16E RENDEZ-VOUS DU CARNET DE VOYAGE
DESCRIPTION:
LOCATION:Polydome, place du 1er Mai, Clermont-Ferrand 
END:VEVENT
END:VCALENDAR
