BEGIN:VCALENDAR
VERSION:2.0
PRODID:-//Focales
CALSCALE:GREGORIAN
METHOD:PUBLISH
X-WR-CALNAME:Focales
X-ORIGINAL-URL:https://focales.org/roland-gori-une-epoque-sans-esprit-en-presence-du-realisateur/
X-WR-CALDESC:ROLAND GORI, UNE EPOQUE SANS ESPRIT EN PRESENCE DU REALISATEUR
BEGIN:VEVENT
DTSTART:20230923T180000
DTEND:20230923T201500
SUMMARY:ROLAND GORI, UNE EPOQUE SANS ESPRIT EN PRESENCE DU REALISATEUR
DESCRIPTION:
LOCATION:Cinéma le Rio, Clermont-Ferrand 
END:VEVENT
END:VCALENDAR
