BEGIN:VCALENDAR
VERSION:2.0
PRODID:-//Focales
CALSCALE:GREGORIAN
METHOD:PUBLISH
X-WR-CALNAME:Focales
X-ORIGINAL-URL:https://focales.org/plein-air-nausicaa-de-la-valee-du-vent/
X-WR-CALDESC:PLEIN AIR NAUSICĀA DE LA VALEE DU VENT
BEGIN:VEVENT
DTSTART:20230915T210000
DTEND:20230915T230000
SUMMARY:PLEIN AIR NAUSICĀA DE LA VALEE DU VENT
DESCRIPTION:
LOCATION:CROUS DOLET, Clermont-Ferrand
END:VEVENT
END:VCALENDAR
