BEGIN:VCALENDAR
VERSION:2.0
PRODID:-//Focales
CALSCALE:GREGORIAN
METHOD:PUBLISH
X-WR-CALNAME:Focales
X-ORIGINAL-URL:https://focales.org/au-temps-des-autres-en-presence-de-la-realisatrice/
X-WR-CALDESC:AU TEMPS DES AUTRES EN PRESENCE DE LA REALISATRICE
BEGIN:VEVENT
DTSTART:20231108T200000
DTEND:20231108T230000
SUMMARY:AU TEMPS DES AUTRES EN PRESENCE DE LA REALISATRICE
DESCRIPTION:
LOCATION:Cinéfac, Clermont-Ferrand
END:VEVENT
END:VCALENDAR
