BEGIN:VCALENDAR
VERSION:2.0
PRODID:-//Focales
CALSCALE:GREGORIAN
METHOD:PUBLISH
X-WR-CALNAME:Focales
X-ORIGINAL-URL:https://focales.org/cine-concert-de-lexcentrale-sur-les-films-des-archives-departementales-du-puy-de-dome/
X-WR-CALDESC:CINÉ-CONCERT DE L&rsquo;EXCENTRALE SUR LES FILMS DES ARCHIVES DEPARTEMENTALES DU PUY-DE-DÔME
BEGIN:VEVENT
DTSTART:20231128T200000
DTEND:20231128T213000
SUMMARY:CINÉ-CONCERT DE L&rsquo;EXCENTRALE SUR LES FILMS DES ARCHIVES DEPARTEMENTALES DU PUY-DE-DÔME
DESCRIPTION:
LOCATION:Cinéfac, Clermont-Ferrand
END:VEVENT
END:VCALENDAR
