BEGIN:VCALENDAR
VERSION:2.0
PRODID:-//Focales
CALSCALE:GREGORIAN
METHOD:PUBLISH
X-WR-CALNAME:Focales
X-ORIGINAL-URL:https://focales.org/masterclass-de-jiri-barta/
X-WR-CALDESC:MASTERCLASS DE JIRI BARTA
BEGIN:VEVENT
DTSTART:20231018T140000
DTEND:20231018T180000
SUMMARY:MASTERCLASS DE JIRI BARTA
DESCRIPTION:
LOCATION:Cinéma le Rio, Clermont-Ferrand 
END:VEVENT
END:VCALENDAR
