BEGIN:VCALENDAR
VERSION:2.0
PRODID:-//Focales
CALSCALE:GREGORIAN
METHOD:PUBLISH
X-WR-CALNAME:Focales
X-ORIGINAL-URL:https://focales.org/seances-scolaires-du-festival-du-court-metrage-2024/
X-WR-CALDESC:SEANCES SCOLAIRES DU FESTIVAL DU COURT METRAGE 2024
BEGIN:VEVENT
DTSTART:20231003T093000
DTEND:20240115T234500
SUMMARY:SEANCES SCOLAIRES DU FESTIVAL DU COURT METRAGE 2024
DESCRIPTION:
LOCATION:Maison de la Culture, 71 Bd François Mitterrand, 63000 Clermont-Ferrand
END:VEVENT
END:VCALENDAR
