BEGIN:VCALENDAR
VERSION:2.0
PRODID:-//Focales
CALSCALE:GREGORIAN
METHOD:PUBLISH
X-WR-CALNAME:Focales
X-ORIGINAL-URL:https://focales.org/concours-du-film-court-du-crous-2024/
X-WR-CALDESC:CONCOURS DU FILM COURT DU CROUS 2024
BEGIN:VEVENT
DTSTART:20231009T090000
DTEND:20240515T234500
SUMMARY:CONCOURS DU FILM COURT DU CROUS 2024
DESCRIPTION:
LOCATION:
END:VEVENT
END:VCALENDAR
