BEGIN:VCALENDAR
VERSION:2.0
PRODID:-//Focales
CALSCALE:GREGORIAN
METHOD:PUBLISH
X-WR-CALNAME:Focales
X-ORIGINAL-URL:https://focales.org/les-demoiselles-de-clermont-suivi-dune-conference/
X-WR-CALDESC:LES DEMOISELLES DE CLERMONT SUIVI D&rsquo;UNE CONFERENCE
BEGIN:VEVENT
DTSTART:20231010T183000
DTEND:20231010T200000
SUMMARY:LES DEMOISELLES DE CLERMONT SUIVI D&rsquo;UNE CONFERENCE
DESCRIPTION:
LOCATION:Centre de documentation de la Jetée
END:VEVENT
END:VCALENDAR
