BEGIN:VCALENDAR
VERSION:2.0
PRODID:-//Focales
CALSCALE:GREGORIAN
METHOD:PUBLISH
X-WR-CALNAME:Focales
X-ORIGINAL-URL:https://focales.org/la-compagnie-du-court-atelier-de-selection-de-courts-metrages/
X-WR-CALDESC:LA COMPAGNIE DU COURT : ATELIER DE SELECTION DE COURTS METRAGES
BEGIN:VEVENT
DTSTART:20231023T093000
DTEND:20231023T180000
SUMMARY:LA COMPAGNIE DU COURT : ATELIER DE SELECTION DE COURTS METRAGES
DESCRIPTION:
LOCATION:Centre de documentation de la Jetée
END:VEVENT
END:VCALENDAR
