BEGIN:VCALENDAR
VERSION:2.0
PRODID:-//Focales
CALSCALE:GREGORIAN
METHOD:PUBLISH
X-WR-CALNAME:Focales
X-ORIGINAL-URL:https://focales.org/court-particulier-laccordeur/
X-WR-CALDESC:COURT PARTICULIER : L&rsquo;ACCORDEUR
BEGIN:VEVENT
DTSTART:20231026T183000
DTEND:20231026T193000
SUMMARY:COURT PARTICULIER : L&rsquo;ACCORDEUR
DESCRIPTION:
LOCATION:Centre de documentation de la Jetée
END:VEVENT
END:VCALENDAR
