BEGIN:VCALENDAR
VERSION:2.0
PRODID:-//Focales
CALSCALE:GREGORIAN
METHOD:PUBLISH
X-WR-CALNAME:Focales
X-ORIGINAL-URL:https://focales.org/cultivons-le-numerique/
X-WR-CALDESC:CULTIVONS LE NUMERIQUE
BEGIN:VEVENT
DTSTART:20231012T203000
DTEND:20231028T170000
SUMMARY:CULTIVONS LE NUMERIQUE
DESCRIPTION:
LOCATION:
END:VEVENT
END:VCALENDAR
