BEGIN:VCALENDAR
VERSION:2.0
PRODID:-//Focales
CALSCALE:GREGORIAN
METHOD:PUBLISH
X-WR-CALNAME:Focales
X-ORIGINAL-URL:https://focales.org/presentation-des-actions-deducation-aux-images-de-traces-de-vie/
X-WR-CALDESC:PRESENTATION DES ACTIONS D&rsquo;EDUCATION AUX IMAGES DE TRACES DE VIES
BEGIN:VEVENT
DTSTART:20231002T173000
DTEND:20231002T193000
SUMMARY:PRESENTATION DES ACTIONS D&rsquo;EDUCATION AUX IMAGES DE TRACES DE VIES
DESCRIPTION:
LOCATION:La Jetée, Clermont-Ferrand
END:VEVENT
END:VCALENDAR
