BEGIN:VCALENDAR
VERSION:2.0
PRODID:-//Focales
CALSCALE:GREGORIAN
METHOD:PUBLISH
X-WR-CALNAME:Focales
X-ORIGINAL-URL:https://focales.org/journees-des-pedagogies-immersives-numeriques/
X-WR-CALDESC:JOURNEES DES PEDAGOGIES IMMERSIVES NUMERIQUES
BEGIN:VEVENT
DTSTART:20231030T090000
DTEND:20231031T163000
SUMMARY:JOURNEES DES PEDAGOGIES IMMERSIVES NUMERIQUES
DESCRIPTION:
LOCATION:Hotel de région, Clermont-Ferrand
END:VEVENT
END:VCALENDAR
