BEGIN:VCALENDAR
VERSION:2.0
PRODID:-//Focales
CALSCALE:GREGORIAN
METHOD:PUBLISH
X-WR-CALNAME:Focales
X-ORIGINAL-URL:https://focales.org/festival-jean-carmet-2023/
X-WR-CALDESC:FESTIVAL JEAN CARMET 2023
BEGIN:VEVENT
DTSTART:20231011T200000
DTEND:20231017T230000
SUMMARY:FESTIVAL JEAN CARMET 2023
DESCRIPTION:
LOCATION:CGR, Moulins
END:VEVENT
END:VCALENDAR
