BEGIN:VCALENDAR
VERSION:2.0
PRODID:-//Focales
CALSCALE:GREGORIAN
METHOD:PUBLISH
X-WR-CALNAME:Focales
X-ORIGINAL-URL:https://focales.org/cadavre-exquis-de-francesco-rosi-et-conference-mafia-et-cinema-par-sylvain-lefort/
X-WR-CALDESC:CADAVRE EXQUIS DE FRANCESCO ROSI ET CONFERENCE MAFIA ET CINEMA PAR SYLVAIN LEFORT
BEGIN:VEVENT
DTSTART:20231004T200000
DTEND:20231004T230000
SUMMARY:CADAVRE EXQUIS DE FRANCESCO ROSI ET CONFERENCE MAFIA ET CINEMA PAR SYLVAIN LEFORT
DESCRIPTION:
LOCATION:Cinéma le Rio, Clermont-Ferrand 
END:VEVENT
END:VCALENDAR
