BEGIN:VCALENDAR
VERSION:2.0
PRODID:-//Focales
CALSCALE:GREGORIAN
METHOD:PUBLISH
X-WR-CALNAME:Focales
X-ORIGINAL-URL:https://focales.org/la-flamme-des-vergnes-en-presence-de-omayma-el-hajiri/
X-WR-CALDESC:LA FLAMME DES VERGNES EN PRESENCE DE OMAYMA EL HAJIRI
BEGIN:VEVENT
DTSTART:20231006T190000
DTEND:20231006T203000
SUMMARY:LA FLAMME DES VERGNES EN PRESENCE DE OMAYMA EL HAJIRI
DESCRIPTION:
LOCATION:Cinéma CGR Val Arena, 210 Bd Étienne Clémentel, 63100 Clermont-Ferrand 
END:VEVENT
END:VCALENDAR
